BEGIN:VCALENDAR
VERSION:2.0
METHOD:PUBLISH
PRODID:-//imacoda.com//SPD-Web-O-Mat//EN
CALSCALE:GREGORIAN
BEGIN:VTIMEZONE
TZID:Europe/Berlin
BEGIN:DAYLIGHT
TZOFFSETFROM:+0100
RRULE:FREQ=YEARLY;BYMONTH=3;BYDAY=-1SU
DTSTART:19810329T020000
TZNAME:MESZ
TZOFFSETTO:+0200
END:DAYLIGHT
BEGIN:STANDARD
TZOFFSETFROM:+0200
RRULE:FREQ=YEARLY;BYMONTH=10;BYDAY=-1SU
DTSTART:19961027T030000
TZNAME:MEZ
TZOFFSETTO:+0100
END:STANDARD
END:VTIMEZONE
BEGIN:VEVENT
UID:20211202T203353Z-00000712388-LULU@www.bayernspd.de
CREATED:20211202T203353Z
LAST-MODIFIED:20211202T203413Z
DTSTAMP:20211202T203413Z
TRANSP:TRANSPARENT
DTSTART;TZID=Europe/Berlin:20221013T200000
DTEND;TZID=Europe/Berlin:20221013T220000
SUMMARY:Vorstandssitzung
LOCATION:tbd
DESCRIPTION:Termin im Web (SPD Weißenburg):\nhttps://spd-weissenburg.de/
 termine/?id=712388
END:VEVENT
END:VCALENDAR
